BEGIN:VCALENDAR
METHOD:PUBLISH
PRODID:-//doubleknot.com//CalenderEvent MIMEDIR//EN
VERSION:2.0
BEGIN:VEVENT
UID:3144179-20260530T120000Z-20260530T210000Z@doubleknot.com
CREATED:20260423T165720Z
LAST-MODIFIED:20260423T171358Z
DTSTAMP:20260423T210024Z
DTSTART:20260530T120000Z
DTEND:20260530T210000Z
LOCATION:Camp Berry, 11716 Co Rd 40, Findlay, OH 45840, US
CATEGORIES:Homepage Events
DESCRIPTION: \n  \n  \n Short-Term Camp Administrator National Camping School course is facilitated through the National Service Center. The training consists of several modules designed to prepare the participant to manage the short-term camp from planning and program development to staff recruitment to assessment. Training will last about 9 hours with interactions and discussions designed to help meet the needs of the participants while conveying the strategies to serve in this role.   \n  \n  \n Highlights include: \n  \n  \n  \n 	 NCAP process for short-term camp \n 	Program planning \n 	Fiscal management \n 	Facilities \n 	Risk management \n  \n  \n Coffee, morning sweets and lunch will be provided.   \n  \n  \n Early Bird Registration fee prior to May 15 is $70, regular registration is $85.  No walk-ins.    \n 
SUMMARY:Short-Term Camp Administrator Training
PRIORITY:5
BEGIN:VALARM
TRIGGER:PT15M
ACTION:DISPLAY
DESCRIPTION:Reminder
PRIORITY:5
END:VALARM
END:VEVENT
END:VCALENDAR
