BEGIN:VCALENDAR
METHOD:PUBLISH
PRODID:-//doubleknot.com//CalenderEvent MIMEDIR//EN
VERSION:2.0
BEGIN:VEVENT
UID:3133937-20270210T000000Z-20270210T013000Z@doubleknot.com
CREATED:20260127T205717Z
LAST-MODIFIED:20260422T125121Z
DTSTAMP:20260422T163718Z
DTSTART:20270210T000000Z
DTEND:20270210T013000Z
LOCATION:US
CATEGORIES:Homepage Events, Old Sycamore, Roundtable
DESCRIPTION:Old Sycamore District Roundtable \n  \n This monthly leader&rsquo;s meeting aims to bring the latest information and updates on Scouting. Training, guidance and questions/answers can be often valuable time spent during roundtable with other unit, district and council leaders. For more information, contact District Commissioner Terri Maurer at 419.733.2024 or maurer324@yahoo.com.  \n 
SUMMARY:OS Roundtable
PRIORITY:5
BEGIN:VALARM
TRIGGER:PT15M
ACTION:DISPLAY
DESCRIPTION:Reminder
PRIORITY:5
END:VALARM
END:VEVENT
END:VCALENDAR
